BEGIN:VCALENDAR
VERSION:2.0
PRODID:-//ecmen - ECPv6.15.20//NONSGML v1.0//EN
CALSCALE:GREGORIAN
METHOD:PUBLISH
X-ORIGINAL-URL:https://ecmen.org
X-WR-CALDESC:Events for ecmen
REFRESH-INTERVAL;VALUE=DURATION:PT1H
X-Robots-Tag:noindex
X-PUBLISHED-TTL:PT1H
BEGIN:VTIMEZONE
TZID:America/New_York
BEGIN:DAYLIGHT
TZOFFSETFROM:-0500
TZOFFSETTO:-0400
TZNAME:EDT
DTSTART:20250309T070000
END:DAYLIGHT
BEGIN:STANDARD
TZOFFSETFROM:-0400
TZOFFSETTO:-0500
TZNAME:EST
DTSTART:20251102T060000
END:STANDARD
BEGIN:DAYLIGHT
TZOFFSETFROM:-0500
TZOFFSETTO:-0400
TZNAME:EDT
DTSTART:20260308T070000
END:DAYLIGHT
BEGIN:STANDARD
TZOFFSETFROM:-0400
TZOFFSETTO:-0500
TZNAME:EST
DTSTART:20261101T060000
END:STANDARD
BEGIN:DAYLIGHT
TZOFFSETFROM:-0500
TZOFFSETTO:-0400
TZNAME:EDT
DTSTART:20270314T070000
END:DAYLIGHT
BEGIN:STANDARD
TZOFFSETFROM:-0400
TZOFFSETTO:-0500
TZNAME:EST
DTSTART:20271107T060000
END:STANDARD
END:VTIMEZONE
BEGIN:VEVENT
DTSTART;TZID=America/New_York:20260516T110000
DTEND;TZID=America/New_York:20260518T140000
DTSTAMP:20260423T184106
CREATED:20260422T200304Z
LAST-MODIFIED:20260422T200304Z
UID:8093-1778929200-1779112800@ecmen.org
SUMMARY:Wilderness Warriors: Spring 2026 Camp Out
DESCRIPTION:Join us for a fun adventure at Camp Allegheny. We are still working out the details but we will meet up Saturday. Saturday afternoon we will play some “barbarian games”. That evening we will partake in a barbarian meal. No silverware and no manners 😝. \nFor anyone who feels up to it we will be staying in tents Saturday night. A pavilion is also included to cook and eat meals. George has several new tents that our group will be able to use\, so no excuses. Seriously though it may be chilly this time of year\, so no pressure to stay the night. Feel free to come and go during the activities on Saturday and Sunday. \nPlease RSVP a week or so ahead of time about what your plans will be so that I can give the Camp a headcount. \nOn Sunday morning\, we will have a short church service on our own. And on Sunday afternoon Camp Allegheny is hosting a free picnic and open house from 2:00-6:00. They will have many of their camp activities available for the boys to try. These include pony rides\, archery\, paddle boats\, a climbing wall and foam pit. I attached a flyer with some details. \nAgain if you can’t make it to the Saturday festivities still come on Sunday for the picnic and open house.
URL:https://ecmen.org/events/ww-2026-spring-camp/
LOCATION:Camp Allegheny\, 100 Camp Allegheny Dr\, Stoystown\, 15563\, United States
CATEGORIES:Wilderness Warriors
ATTACH;FMTTYPE=image/jpeg:https://ecmen.org/wp-content/uploads/2026/04/Wilderness-Warriors-WEB-600x400-1.jpg
END:VEVENT
END:VCALENDAR