BEGIN:VCALENDAR
VERSION:2.0
PRODID:-//ecmen - ECPv6.15.20//NONSGML v1.0//EN
CALSCALE:GREGORIAN
METHOD:PUBLISH
X-WR-CALNAME:ecmen
X-ORIGINAL-URL:https://ecmen.org
X-WR-CALDESC:Events for ecmen
REFRESH-INTERVAL;VALUE=DURATION:PT1H
X-Robots-Tag:noindex
X-PUBLISHED-TTL:PT1H
BEGIN:VTIMEZONE
TZID:America/New_York
BEGIN:DAYLIGHT
TZOFFSETFROM:-0500
TZOFFSETTO:-0400
TZNAME:EDT
DTSTART:20250309T070000
END:DAYLIGHT
BEGIN:STANDARD
TZOFFSETFROM:-0400
TZOFFSETTO:-0500
TZNAME:EST
DTSTART:20251102T060000
END:STANDARD
BEGIN:DAYLIGHT
TZOFFSETFROM:-0500
TZOFFSETTO:-0400
TZNAME:EDT
DTSTART:20260308T070000
END:DAYLIGHT
BEGIN:STANDARD
TZOFFSETFROM:-0400
TZOFFSETTO:-0500
TZNAME:EST
DTSTART:20261101T060000
END:STANDARD
BEGIN:DAYLIGHT
TZOFFSETFROM:-0500
TZOFFSETTO:-0400
TZNAME:EDT
DTSTART:20270314T070000
END:DAYLIGHT
BEGIN:STANDARD
TZOFFSETFROM:-0400
TZOFFSETTO:-0500
TZNAME:EST
DTSTART:20271107T060000
END:STANDARD
END:VTIMEZONE
BEGIN:VEVENT
DTSTART;TZID=America/New_York:20260426T160000
DTEND;TZID=America/New_York:20260426T173000
DTSTAMP:20260423T145451
CREATED:20260422T195422Z
LAST-MODIFIED:20260422T195422Z
UID:8081-1777219200-1777224600@ecmen.org
SUMMARY:Wilderness Warriors: Orienteering
DESCRIPTION:The Wilderness Warriors will learn the basics of reading a map\, using a compass and other navigation skills. An instructor from Stackhouse Park will be teaching the skills. \nStackhouse park has a course set up that we can practice our new skills. We will probably break up into groups and find different waypoints that are set up.
URL:https://ecmen.org/events/ww-2026-04-26/
LOCATION:Stackhouse Park\, 998 Luzerne St\, Johnstown\, PA\, 15905\, United States
CATEGORIES:Wilderness Warriors
ATTACH;FMTTYPE=image/jpeg:https://ecmen.org/wp-content/uploads/2026/04/Wilderness-Warriors-WEB-600x400-1.jpg
END:VEVENT
END:VCALENDAR